BEGIN:VCALENDAR
VERSION:2.0
PRODID:-//Harbor Shalom - ECPv6.15.20//NONSGML v1.0//EN
CALSCALE:GREGORIAN
METHOD:PUBLISH
X-ORIGINAL-URL:https://www.harborshalom.org
X-WR-CALDESC:Events for Harbor Shalom
REFRESH-INTERVAL;VALUE=DURATION:PT1H
X-Robots-Tag:noindex
X-PUBLISHED-TTL:PT1H
BEGIN:VTIMEZONE
TZID:UTC
BEGIN:STANDARD
TZOFFSETFROM:+0000
TZOFFSETTO:+0000
TZNAME:UTC
DTSTART:20200101T000000
END:STANDARD
END:VTIMEZONE
BEGIN:VEVENT
DTSTART;TZID=UTC:20231028T130000
DTEND;TZID=UTC:20231028T160000
DTSTAMP:20260423T174417
CREATED:20230616T030035Z
LAST-MODIFIED:20230616T030035Z
UID:1592-1698498000-1698508800@www.harborshalom.org
SUMMARY:Exploring Generational Sin and Resulting Curses
DESCRIPTION:Exploring Generational Sin and Resulting Curses\, October 28\, 2023; 1 PM-4PM at Stanley Memorial Fountain of Life Church**\, 639 East Street\, New Britain\, CT 06051. Love offering only.\n**Location subject to change.
URL:https://www.harborshalom.org/event/exploring-generational-sin-and-resulting-curses/
LOCATION:Stanley Memorial Fountain of Life Church\, 639 East Street\, New Britain\, CT\, 06051
CATEGORIES:Classes
END:VEVENT
BEGIN:VEVENT
DTSTART;TZID=UTC:20230908T190000
DTEND;TZID=UTC:20231111T170000
DTSTAMP:20260423T174417
CREATED:20230616T025729Z
LAST-MODIFIED:20230616T025830Z
UID:1588-1694199600-1699722000@www.harborshalom.org
SUMMARY:Deliverance Ministry Training School
DESCRIPTION:Join us for a Deliverance Ministry Training School at Stanley Memorial Fountain of Life Church\, 639 East Street\, New Britain\, CT 06051 \n\nSegment I;  September 8\, 7-9 PM;  September 9\,  8:30 AM to 5:00 PM\, lunch included\nSegment II:  October 13\, 7-9PM;  October 14\, 8:30 AM -5:00 PM\, lunch included.\nSegment III:  November 10\, 7-9 PM; November 11\, 8:30 AM -5:00 PM\, lunch and certification included.\n\nThis school is by registration only\, subject to staff approval. The fee for the entire training is $225.00. Forms will be available on our website and Harbor Shalom’s Facebook page by July 1\, 2023.
URL:https://www.harborshalom.org/event/deliverance-ministry-training-school/
LOCATION:Stanley Memorial Fountain of Life Church\, 639 East Street\, New Britain\, CT\, 06051
CATEGORIES:Classes,Workshops
END:VEVENT
BEGIN:VEVENT
DTSTART;TZID=UTC:20230616T080000
DTEND;TZID=UTC:20230616T170000
DTSTAMP:20260423T174417
CREATED:20230616T024959Z
LAST-MODIFIED:20230616T024959Z
UID:1584-1686902400-1686934800@www.harborshalom.org
SUMMARY:DMTS Support Gathering
DESCRIPTION:Join us on July 07\, 2023 for a DMTS Support Gathering. 7 to 9 PM at the Home Office: 13 Hatch Street.
URL:https://www.harborshalom.org/event/dmts-support-gathering/
LOCATION:CT
CATEGORIES:Classes
END:VEVENT
BEGIN:VEVENT
DTSTART;VALUE=DATE:20211001
DTEND;VALUE=DATE:20211102
DTSTAMP:20260423T174417
CREATED:20210610T163120Z
LAST-MODIFIED:20210610T164033Z
UID:1553-1633046400-1635811199@www.harborshalom.org
SUMMARY:Deliverance Training School - Coming Late Fall 2021!
DESCRIPTION:There is some interest in another Deliverance Training School for people interested in learning to do inner healing and deliverance ministry.  We anticipate that this could be set up for late fall\, before the holiday season.  Check back for specific dates as we get close. If you are interested or have questions about this\, please contact us.
URL:https://www.harborshalom.org/event/deliverance-training-school-coming-soon/
LOCATION:CT
CATEGORIES:Classes
END:VEVENT
BEGIN:VEVENT
DTSTART;VALUE=DATE:20210801
DTEND;VALUE=DATE:20211001
DTSTAMP:20260423T174417
CREATED:20210610T155751Z
LAST-MODIFIED:20210610T163543Z
UID:1551-1627776000-1633046399@www.harborshalom.org
SUMMARY:Birthright of Freedom Class - Coming Late Summer 2021!
DESCRIPTION:We are planning a fall Birthright of Freedom 10-week class that will be available for in-person attendance and/or Zoom participation.  Location will be New Britain\, CT.  Anyone interested should let us know. There will be a course fee which includes the book.  Books will be shipped ahead of the class.  Specific dates will be forthcoming before the end of July. To learn more about our Birthright of Freedom course\, click HERE.
URL:https://www.harborshalom.org/event/birthright-of-freedom-class-coming-soon/
LOCATION:CT
CATEGORIES:Classes
END:VEVENT
END:VCALENDAR