BEGIN:VCALENDAR
VERSION:2.0
PRODID:-//Harbor Shalom - ECPv6.15.20//NONSGML v1.0//EN
CALSCALE:GREGORIAN
METHOD:PUBLISH
X-ORIGINAL-URL:https://www.harborshalom.org
X-WR-CALDESC:Events for Harbor Shalom
REFRESH-INTERVAL;VALUE=DURATION:PT1H
X-Robots-Tag:noindex
X-PUBLISHED-TTL:PT1H
BEGIN:VTIMEZONE
TZID:UTC
BEGIN:STANDARD
TZOFFSETFROM:+0000
TZOFFSETTO:+0000
TZNAME:UTC
DTSTART:20180101T000000
END:STANDARD
END:VTIMEZONE
BEGIN:VEVENT
DTSTART;TZID=UTC:20191124T160000
DTEND;TZID=UTC:20191124T190000
DTSTAMP:20260423T174103
CREATED:20191105T030343Z
LAST-MODIFIED:20191105T030402Z
UID:1426-1574611200-1574622000@www.harborshalom.org
SUMMARY:Family Supper
DESCRIPTION:Learn more at https://www.harborshalom.org/classes-workshops/family-suppers/
URL:https://www.harborshalom.org/event/family-supper-november-24-2019/
LOCATION:Harbor Shalom\, 13 Hatch Street\, New Britain\, CT\, 06053\, United States
CATEGORIES:Fellowship
ORGANIZER;CN="Doyle & Becky Musser":MAILTO:info@harborshalom.org
END:VEVENT
BEGIN:VEVENT
DTSTART;TZID=UTC:20191019T090000
DTEND;TZID=UTC:20191019T160000
DTSTAMP:20260423T174103
CREATED:20190914T000241Z
LAST-MODIFIED:20191016T011944Z
UID:1376-1571475600-1571500800@www.harborshalom.org
SUMMARY:Apple Cider Festival
DESCRIPTION:Come join us for a time of Apple Cidering\, fun\, and fellowship! \nLocation: 23 Middle Haddam Road\, Cobalt\, CT 06414 \nContact us for more details!
URL:https://www.harborshalom.org/event/apple-cider-festival/
LOCATION:Harbor Shalom\, 13 Hatch Street\, New Britain\, CT\, 06053\, United States
CATEGORIES:Fellowship
END:VEVENT
BEGIN:VEVENT
DTSTART;TZID=UTC:20191011T190000
DTEND;TZID=UTC:20191011T210000
DTSTAMP:20260423T174103
CREATED:20190727T225536Z
LAST-MODIFIED:20190907T203131Z
UID:876-1570820400-1570827600@www.harborshalom.org
SUMMARY:Quarterly Book Night & Light Supper: "Grafted In" with author Michelle Wuesthoff
DESCRIPTION:Join us for our quarterly book night discussion with light supper. The author will be present to guide our discussion. Purchase the book off amazon here and read the book prior to attending. \n\nBook: Grafted In \n\nAuthor: Michelle Wuestoff\nWebsite: www.michellewuesthoff.com
URL:https://www.harborshalom.org/event/quarterly-book-night-light-supper-grafted-in-with-author-michelle-wuesthoff/
LOCATION:Harbor Shalom\, 13 Hatch Street\, New Britain\, CT\, 06053\, United States
CATEGORIES:Fellowship
ORGANIZER;CN="Doyle & Becky Musser":MAILTO:info@harborshalom.org
END:VEVENT
BEGIN:VEVENT
DTSTART;TZID=UTC:20190929T160000
DTEND;TZID=UTC:20190929T190000
DTSTAMP:20260423T174103
CREATED:20190727T231016Z
LAST-MODIFIED:20190913T230559Z
UID:895-1569772800-1569783600@www.harborshalom.org
SUMMARY:Family Supper
DESCRIPTION:Learn more at https://www.harborshalom.org/classes-workshops/family-suppers/
URL:https://www.harborshalom.org/event/family-supper-september-29-2019/
LOCATION:Harbor Shalom\, 13 Hatch Street\, New Britain\, CT\, 06053\, United States
CATEGORIES:Fellowship
ORGANIZER;CN="Doyle & Becky Musser":MAILTO:info@harborshalom.org
END:VEVENT
BEGIN:VEVENT
DTSTART;TZID=UTC:20190928T163000
DTEND;TZID=UTC:20190928T203000
DTSTAMP:20260423T174103
CREATED:20190913T231444Z
LAST-MODIFIED:20190913T231521Z
UID:1373-1569688200-1569702600@www.harborshalom.org
SUMMARY:WIHS Expo & Gala
DESCRIPTION:Harbor Shalom will be at the WIHS Expo & Gala! \nLearn more: https://www.wihsradio.org/index.php/50th-anniversary/celebration-banquet/ \n \n 
URL:https://www.harborshalom.org/event/wihs-expo-gala/
LOCATION:CT
END:VEVENT
BEGIN:VEVENT
DTSTART;TZID=UTC:20190915T160000
DTEND;TZID=UTC:20190915T190000
DTSTAMP:20260423T174103
CREATED:20190727T230803Z
LAST-MODIFIED:20190913T230626Z
UID:893-1568563200-1568574000@www.harborshalom.org
SUMMARY:Family Supper
DESCRIPTION:Learn more at https://www.harborshalom.org/classes-workshops/family-suppers/
URL:https://www.harborshalom.org/event/family-supper-september-15-2019/
LOCATION:Harbor Shalom\, 13 Hatch Street\, New Britain\, CT\, 06053\, United States
CATEGORIES:Fellowship
ORGANIZER;CN="Doyle & Becky Musser":MAILTO:info@harborshalom.org
END:VEVENT
BEGIN:VEVENT
DTSTART;TZID=UTC:20190901T160000
DTEND;TZID=UTC:20190901T190000
DTSTAMP:20260423T174103
CREATED:20190727T230649Z
LAST-MODIFIED:20190727T230712Z
UID:891-1567353600-1567364400@www.harborshalom.org
SUMMARY:Family Supper
DESCRIPTION:
URL:https://www.harborshalom.org/event/family-supper-september-1-2019/
LOCATION:CT
CATEGORIES:Fellowship
END:VEVENT
BEGIN:VEVENT
DTSTART;TZID=UTC:20190811T160000
DTEND;TZID=UTC:20190811T190000
DTSTAMP:20260423T174103
CREATED:20190727T230351Z
LAST-MODIFIED:20190727T231209Z
UID:889-1565539200-1565550000@www.harborshalom.org
SUMMARY:Family Supper
DESCRIPTION:
URL:https://www.harborshalom.org/event/family-supper-august-11-2019/
LOCATION:Harbor Shalom\, 13 Hatch Street\, New Britain\, CT\, 06053\, United States
CATEGORIES:Fellowship
ORGANIZER;CN="Doyle & Becky Musser":MAILTO:info@harborshalom.org
END:VEVENT
BEGIN:VEVENT
DTSTART;TZID=UTC:20190804T160000
DTEND;TZID=UTC:20190804T190000
DTSTAMP:20260423T174103
CREATED:20190727T230130Z
LAST-MODIFIED:20190727T231222Z
UID:887-1564934400-1564945200@www.harborshalom.org
SUMMARY:Family Supper
DESCRIPTION:
URL:https://www.harborshalom.org/event/family-supper-august-4-2019/
LOCATION:Harbor Shalom\, 13 Hatch Street\, New Britain\, CT\, 06053\, United States
CATEGORIES:Fellowship
ORGANIZER;CN="Doyle & Becky Musser":MAILTO:info@harborshalom.org
END:VEVENT
BEGIN:VEVENT
DTSTART;TZID=UTC:20190728T160000
DTEND;TZID=UTC:20190728T190000
DTSTAMP:20260423T174103
CREATED:20190727T225939Z
LAST-MODIFIED:20190727T231233Z
UID:885-1564329600-1564340400@www.harborshalom.org
SUMMARY:Family Supper
DESCRIPTION:
URL:https://www.harborshalom.org/event/family-supper-july-28-2019/
LOCATION:Harbor Shalom\, 13 Hatch Street\, New Britain\, CT\, 06053\, United States
CATEGORIES:Fellowship
ORGANIZER;CN="Doyle & Becky Musser":MAILTO:info@harborshalom.org
END:VEVENT
END:VCALENDAR